BEGIN:VCALENDAR
VERSION:2.0
PRODID:-//99.3 The River - ECPv4.6.26//NONSGML v1.0//EN
CALSCALE:GREGORIAN
METHOD:PUBLISH
X-WR-CALNAME:99.3 The River
X-ORIGINAL-URL:https://993theriver.com
X-WR-CALDESC:Events for 99.3 The River
BEGIN:VEVENT
DTSTART;TZID=America/Halifax:20220828T160000
DTEND;TZID=America/Halifax:20220828T170000
DTSTAMP:20260422T211502
CREATED:20220828T114851Z
LAST-MODIFIED:20220902T161042Z
UID:17766-1661702400-1661706000@993theriver.com
SUMMARY:Shepherd's Pie Supper (Sept. 14th)
DESCRIPTION:St. Andrew’s United Church\, 188 Wellington Street\, Miramichi \nWednesday\, September 14\, 2022 4:00 p.m. – 5:00 p.m.\n(TAKE-OUT ONLY)\nTickets are $15.00 a person with 100 tickets being pre-sold.\nCall Karen at 773-9932 to book your order. \nShepherd’s Pie Supper (personal size)\, Tossed Salad\, Roll\nand blueberry or apple crisp for dessert \n
URL:https://993theriver.com/event/shepherds-pie-supper-sept-7th/2022-08-28/
CATEGORIES:Community Events
END:VEVENT
END:VCALENDAR