BEGIN:VCALENDAR
VERSION:2.0
PRODID:-//99.3 The River - ECPv4.6.26//NONSGML v1.0//EN
CALSCALE:GREGORIAN
METHOD:PUBLISH
X-WR-CALNAME:99.3 The River
X-ORIGINAL-URL:https://993theriver.com
X-WR-CALDESC:Events for 99.3 The River
BEGIN:VEVENT
DTSTART;VALUE=DATE:20220522
DTEND;VALUE=DATE:20220523
DTSTAMP:20260424T114850
CREATED:20220522T143813Z
LAST-MODIFIED:20220522T143813Z
UID:17297-1653177600-1653263999@993theriver.com
SUMMARY:Join MADD Miramichi
DESCRIPTION: \nHundreds of people are killed\, and thousands are injured\, every year in crashes involving alcohol\, cannabis and/or other drugs. Take action today! Join MADD Miramichi to help stop impaired driving and to support victims of this violent crime. Call 1-800-665-6233 ext. 385 or reach out to us on Facebook to find out how you can make a difference. \nClick here for more information. \n
URL:https://993theriver.com/event/join-madd-miramichi/2022-05-22/
END:VEVENT
END:VCALENDAR