BEGIN:VCALENDAR
VERSION:2.0
PRODID:-//99.3 The River - ECPv4.6.26//NONSGML v1.0//EN
CALSCALE:GREGORIAN
METHOD:PUBLISH
X-WR-CALNAME:99.3 The River
X-ORIGINAL-URL:https://993theriver.com
X-WR-CALDESC:Events for 99.3 The River
BEGIN:VEVENT
DTSTART;VALUE=DATE:20220511
DTEND;VALUE=DATE:20220512
DTSTAMP:20260419T190210
CREATED:20220502T125325Z
LAST-MODIFIED:20220502T125325Z
UID:17171-1652227200-1652313599@993theriver.com
SUMMARY:McHappy Day
DESCRIPTION:On McHappy Day\, a portion of proceeds from ALL menu items ALL DAY at McDonald’s will support RMHC and there are more ways than ever to support!  \n
URL:https://993theriver.com/event/mchappy-day-2022/
ATTACH;FMTTYPE=image/jpeg:https://993theriver.com/wp-content/uploads/sites/19/2022/05/mchappy-day-2022.jpg
END:VEVENT
BEGIN:VEVENT
DTSTART;TZID=America/Halifax:20220511T180000
DTEND;TZID=America/Halifax:20220511T180000
DTSTAMP:20260419T190210
CREATED:20220508T130819Z
LAST-MODIFIED:20220508T130819Z
UID:17230-1652292000-1652292000@993theriver.com
SUMMARY:Miramichi Supports Ukraine
DESCRIPTION: \n
URL:https://993theriver.com/event/miramichi-supports-ukraine/
CATEGORIES:Community
END:VEVENT
END:VCALENDAR