BEGIN:VCALENDAR
VERSION:2.0
PRODID:-//99.3 The River - ECPv4.6.26//NONSGML v1.0//EN
CALSCALE:GREGORIAN
METHOD:PUBLISH
X-WR-CALNAME:99.3 The River
X-ORIGINAL-URL:https://993theriver.com
X-WR-CALDESC:Events for 99.3 The River
BEGIN:VEVENT
DTSTART;TZID=America/Halifax:20201013T080000
DTEND;TZID=America/Halifax:20201025T170000
DTSTAMP:20260420T132524
CREATED:20201013T105618Z
LAST-MODIFIED:20201013T105618Z
UID:12532-1602576000-1603645200@993theriver.com
SUMMARY:ST BRIDGETS FALL SUPPER
DESCRIPTION:St Bridgets fall supper drive thru and take out is Sunday Oct 25th 3-6.  Turkey dinner with all the trimmings and dessert.  Tickets sold until Oct 18th and available after mass on Sundays.  Call 627-1998 for tickets \n
URL:https://993theriver.com/event/st-bridgets-fall-supper/
END:VEVENT
END:VCALENDAR