BEGIN:VCALENDAR
VERSION:2.0
PRODID:-//99.3 The River - ECPv4.6.26//NONSGML v1.0//EN
CALSCALE:GREGORIAN
METHOD:PUBLISH
X-WR-CALNAME:99.3 The River
X-ORIGINAL-URL:https://993theriver.com
X-WR-CALDESC:Events for 99.3 The River
BEGIN:VEVENT
DTSTART;TZID=America/Halifax:20200916T150000
DTEND;TZID=America/Halifax:20200916T180000
DTSTAMP:20260425T125247
CREATED:20200916T163231Z
LAST-MODIFIED:20200916T185034Z
UID:12417-1600268400-1600279200@993theriver.com
SUMMARY:War Memories in Song Take Out Supper
DESCRIPTION: \n
URL:https://993theriver.com/event/war-memories-in-song-take-out-supper/2020-09-16/
END:VEVENT
END:VCALENDAR