BEGIN:VCALENDAR
VERSION:2.0
PRODID:-//99.3 The River - ECPv4.6.26//NONSGML v1.0//EN
CALSCALE:GREGORIAN
METHOD:PUBLISH
X-WR-CALNAME:99.3 The River
X-ORIGINAL-URL:https://993theriver.com
X-WR-CALDESC:Events for 99.3 The River
BEGIN:VEVENT
DTSTART;TZID=America/Halifax:20191208T130000
DTEND;TZID=America/Halifax:20191208T130000
DTSTAMP:20260425T185621
CREATED:20191201T235119Z
LAST-MODIFIED:20191201T235119Z
UID:9865-1575810000-1575810000@993theriver.com
SUMMARY:Christmas Bingo
DESCRIPTION:Sunday\, December 8th\n1 P.M. \nSt .Margaret’s Church Hall. \nPrizes are Turkeys and Hams. \nEveryone Welcome. \n
URL:https://993theriver.com/event/christmas-bingo-2/
END:VEVENT
BEGIN:VEVENT
DTSTART;TZID=America/Halifax:20191208T190000
DTEND;TZID=America/Halifax:20191208T190000
DTSTAMP:20260425T185621
CREATED:20191122T103643Z
LAST-MODIFIED:20191122T103643Z
UID:9806-1575831600-1575831600@993theriver.com
SUMMARY:Christmas in Williamstown
DESCRIPTION:Celebrating Christmas with the Estey’s\, Roger and Shirley\, Jimmy Lawlor Sr.\, and the Green’s\, Jack and Margret. \nWilliamstown Church\nWilliamstown Road\nDecember 8th\, 2019\n7 p.m. \nAll Welcomed!\nGood will offering \n
URL:https://993theriver.com/event/christmas-in-williamstown/
END:VEVENT
END:VCALENDAR