BEGIN:VCALENDAR
VERSION:2.0
PRODID:-//99.3 The River - ECPv4.6.26//NONSGML v1.0//EN
CALSCALE:GREGORIAN
METHOD:PUBLISH
X-WR-CALNAME:99.3 The River
X-ORIGINAL-URL:https://993theriver.com
X-WR-CALDESC:Events for 99.3 The River
BEGIN:VEVENT
DTSTART;TZID=America/Halifax:20191124T080000
DTEND;TZID=America/Halifax:20191124T130000
DTSTAMP:20260425T023831
CREATED:20191118T002509Z
LAST-MODIFIED:20191118T002509Z
UID:9760-1574582400-1574600400@993theriver.com
SUMMARY:Breakfast
DESCRIPTION:Hosted by the Knights of Columbus Council 8381\, in Nelson\, \nSunday\, November 24\, 2019 \n8:00 AM to 1:00 PM \nSeniors Hall \n26 Sutton Road. \nCost is $6.00 for adults or Take-Away (622-1010)\, $4.00 for children and a Family Rate is $15.00. \nAll are welcome and the Knights greatly appreciate your support. Hope to see you at the breakfast. \n
URL:https://993theriver.com/event/breakfast-30/
END:VEVENT
BEGIN:VEVENT
DTSTART;TZID=America/Halifax:20191124T120000
DTEND;TZID=America/Halifax:20191124T160000
DTSTAMP:20260425T023831
CREATED:20191021T111429Z
LAST-MODIFIED:20191127T001753Z
UID:9517-1574596800-1574611200@993theriver.com
SUMMARY:Max Aitken Academy Market
DESCRIPTION:58 Crocker Crescent (school cafeteria)\n12pm-4pm \nSunday October 27th\nSunday November 3rd\nSaturday November 16th\nSunday November 24th \nCome out and visit our local artisans\, vendors\, crafters and independent representatives. Start your holiday shopping early…something for everyone! \nSpaces available for vendors\, contact 625-1784 for further information. \n
URL:https://993theriver.com/event/max-aitken-academy-market-3/
END:VEVENT
BEGIN:VEVENT
DTSTART;TZID=America/Halifax:20191124T130000
DTEND;TZID=America/Halifax:20191124T150000
DTSTAMP:20260425T023831
CREATED:20191120T001118Z
LAST-MODIFIED:20191120T001118Z
UID:9782-1574600400-1574607600@993theriver.com
SUMMARY:Merchandise Bingo
DESCRIPTION:Saint Michael’s Basilica Parish Centre \nSunday\, November 24 \n1pm to 3pm \n12 Regular Games and a Jackpot game. \nBooks of Cards are $10.00. \nThere will be a canteen available for purchase. \nProceeds going to Kindertots Operation Kind Kids Adopted Christmas Families. For more information call 778-3936 \n
URL:https://993theriver.com/event/merchandise-bingo-5/
END:VEVENT
END:VCALENDAR