BEGIN:VCALENDAR
VERSION:2.0
PRODID:-//99.3 The River - ECPv4.6.26//NONSGML v1.0//EN
CALSCALE:GREGORIAN
METHOD:PUBLISH
X-WR-CALNAME:99.3 The River
X-ORIGINAL-URL:https://993theriver.com
X-WR-CALDESC:Events for 99.3 The River
BEGIN:VEVENT
DTSTART;TZID=America/Halifax:20191104T160000
DTEND;TZID=America/Halifax:20191104T180000
DTSTAMP:20260425T103805
CREATED:20191021T120023Z
LAST-MODIFIED:20191021T120023Z
UID:9523-1572883200-1572890400@993theriver.com
SUMMARY:Career Month Launch
DESCRIPTION:Employers and Job Seekers are invited to attend the National Career Month Launch \nNovember 4th\, 2019 \n4PM to 6PM \nStart UP Miramichi Centre Co-Working Center just above The Goodie Shop \nCome to this networking event while enjoying hors d’oeuvres prepared by chef Pat Mills. Meet the Executive Director of the Miramichi Chamber of Commerce\, Post Secondary Education\, Training and Labour representatives and Start Up Miramichi representative. \nFor more information contact the Career Information Center at 622-5491 or 778-6392 \n
URL:https://993theriver.com/event/career-month-launch/
END:VEVENT
BEGIN:VEVENT
DTSTART;TZID=America/Halifax:20191104T190000
DTEND;TZID=America/Halifax:20191104T190000
DTSTAMP:20260425T103805
CREATED:20191030T234750Z
LAST-MODIFIED:20191030T234750Z
UID:9628-1572894000-1572894000@993theriver.com
SUMMARY:Voices of the Old North Shore - MVHS Theatre
DESCRIPTION:November 4th  at 7PM \nMVHS Theatre. \nAdmission is $20 at the door. All proceeds go to the North Shore Regiment Remembrance Project. \nTea\, coffee and dessert will be available at intermission. \nThis is an evening that pays tribute to the courage and sacrifice of the brave men from of our region who fought for our freedom during the Second World War. The voices of the past and the memories of the fallen will come to life on the MVHS stage through a theatrical presentation\, based on the words and stories of actual veterans. The evening is also inspired by the 150 students and staff who participated in the 75th Anniversary of D-Day commemoration events\, this past June\, in France. \n
URL:https://993theriver.com/event/voices-of-the-old-north-shore-mvhs-theatre/
END:VEVENT
END:VCALENDAR