BEGIN:VCALENDAR
VERSION:2.0
PRODID:-//99.3 The River - ECPv4.6.26//NONSGML v1.0//EN
CALSCALE:GREGORIAN
METHOD:PUBLISH
X-WR-CALNAME:99.3 The River
X-ORIGINAL-URL:https://993theriver.com
X-WR-CALDESC:Events for 99.3 The River
BEGIN:VEVENT
DTSTART;TZID=America/Halifax:20191026T080000
DTEND;TZID=America/Halifax:20191026T120000
DTSTAMP:20260420T173310
CREATED:20191021T115515Z
LAST-MODIFIED:20191021T115515Z
UID:9519-1572076800-1572091200@993theriver.com
SUMMARY:Dance Team Yard Sale\, Market\, BBQ
DESCRIPTION:Saturday October 26th\n8am to Noon\nTyra’s Infinity Center (formerly Douglastown Community Center) \nSpotlights and Sequins Competition dance team is hosting an indoor yard sale and market. Along with a BBQ and 50/50 draw. \nTables may be rented for $10 per table. Contact Amy by phone at 773-5480 or by email at amygregan9@gmail.com if interested. \n
URL:https://993theriver.com/event/dance-team-yard-sale-market-bbq/
END:VEVENT
BEGIN:VEVENT
DTSTART;TZID=America/Halifax:20191026T100000
DTEND;TZID=America/Halifax:20191026T140000
DTSTAMP:20260420T173310
CREATED:20191023T121303Z
LAST-MODIFIED:20191023T121303Z
UID:9546-1572084000-1572098400@993theriver.com
SUMMARY:Curling Open House
DESCRIPTION:Miramichi Curling Club’s FREE Open house week starting this weekend Oct 26 from 10 AM until 2 PM. \nThe Open House week continues on Oct 28\, 29 and 30th from 6 PM until 8 PM. \nIf you have ever been interested in trying out this great sport\, now is the time. Maybe even sign up for our learn to curl or for one of our fun curling leagues. For previous members come down and throw a few rocks and sign up for league play. See you at the club. \n
URL:https://993theriver.com/event/curling-open-house-2/
END:VEVENT
BEGIN:VEVENT
DTSTART;TZID=America/Halifax:20191026T130000
DTEND;TZID=America/Halifax:20191026T130000
DTSTAMP:20260420T173310
CREATED:20191023T121515Z
LAST-MODIFIED:20191023T121515Z
UID:9552-1572094800-1572094800@993theriver.com
SUMMARY:Presentation - Seniors Entering Nursing Homes
DESCRIPTION:Cecile Cassista\, Exciting Director of the Coalition for Seniors and Nursing Homes. \nCecile will give a power point presentation on financial facts of seniors entering nursing homes.\nQuestion and Answering period to follow. \nSaturday October 26th at 1p.m. \nMillerton Middle School\n4711 Route 108\, Derby\, N.B. \nAll people interested are welcomed. \n
URL:https://993theriver.com/event/presentation-seniors-entering-nursing-homes/
END:VEVENT
BEGIN:VEVENT
DTSTART;TZID=America/Halifax:20191026T140000
DTEND;TZID=America/Halifax:20191026T170000
DTSTAMP:20260420T173310
CREATED:20191021T101331Z
LAST-MODIFIED:20191021T101331Z
UID:9505-1572098400-1572109200@993theriver.com
SUMMARY:Gordon’s Wharf Family Fall Harvest
DESCRIPTION:Saturday October 26\, 2019 \n2pm – 5pm \nGordons Wharf \n11 Gordon Wharf Rd off of Highway 11 in Lower Newcastle \nThe day will be filled with games & trick or treating for kids\, a BBQ & bake sale\, refreshments\, pumpkin activities and live entertainment! \nThere will be prizes to be won for best Halloween costume so bring the spooky out! \nALL ATV’s AND FOUR WHEELERS WELCOME! \nIf inclement weather: Event will be held at Fins & Feathers on Russellville Road \n
URL:https://993theriver.com/event/gordons-wharf-family-fall-harvest/
END:VEVENT
BEGIN:VEVENT
DTSTART;TZID=America/Halifax:20191026T153000
DTEND;TZID=America/Halifax:20191026T180000
DTSTAMP:20260420T173310
CREATED:20191014T235918Z
LAST-MODIFIED:20191014T235918Z
UID:9407-1572103800-1572112800@993theriver.com
SUMMARY:Roast Beef Fall Supper
DESCRIPTION:St. James & St. John United Church Centre\, \n556 King George Hwy \nSaturday\, Oct 26\, \n3:30 – 6 PM. \nTickets available at the door: \n$13 for adults\, children under 12 $7. Take outs available. \nRoast beef\, potatoes\, gravy\, carrots\, and turnips\, tea/coffee\, fresh rolls\, and your choice of dessert. \n
URL:https://993theriver.com/event/roast-beef-fall-supper/
END:VEVENT
BEGIN:VEVENT
DTSTART;TZID=America/Halifax:20191026T210000
DTEND;TZID=America/Halifax:20191026T210000
DTSTAMP:20260420T173310
CREATED:20191007T122700Z
LAST-MODIFIED:20191007T122700Z
UID:9376-1572123600-1572123600@993theriver.com
SUMMARY:Halloween Dance
DESCRIPTION:Branch 3 Legion will be having a Halloween dance Oct 26 from 9-1 with Short Sweet Ride. \nThere will be prizes for best costume\,best couple & most unique. \n$12 in advance and $15 at the door. \nTickets available at Family Convenience and at the Legion. \n
URL:https://993theriver.com/event/halloween-dance/
END:VEVENT
BEGIN:VEVENT
DTSTART;TZID=America/Halifax:20191026T210000
DTEND;TZID=America/Halifax:20191026T210000
DTSTAMP:20260420T173310
CREATED:20191008T121953Z
LAST-MODIFIED:20191008T121953Z
UID:9385-1572123600-1572123600@993theriver.com
SUMMARY:Chris Cummings at Club 10
DESCRIPTION: \n
URL:https://993theriver.com/event/chris-cummings-at-club-10/
END:VEVENT
END:VCALENDAR