BEGIN:VCALENDAR
VERSION:2.0
PRODID:-//99.3 The River - ECPv4.6.26//NONSGML v1.0//EN
CALSCALE:GREGORIAN
METHOD:PUBLISH
X-WR-CALNAME:99.3 The River
X-ORIGINAL-URL:https://993theriver.com
X-WR-CALDESC:Events for 99.3 The River
BEGIN:VEVENT
DTSTART;TZID=America/Halifax:20190428T080000
DTEND;TZID=America/Halifax:20190428T130000
DTSTAMP:20260419T140657
CREATED:20190424T164034Z
LAST-MODIFIED:20190424T164034Z
UID:7641-1556438400-1556456400@993theriver.com
SUMMARY:Breakfast
DESCRIPTION:The Knights of Columbus Council 8381\, in Nelson\, will be holding a benefit breakfast on Sunday\, April 28th from 8:00AM to 1:00PM in the Seniors Hall located at 26 Sutton Road proceeds to help Frank Hanley with medical expenses. \nCost is $6.00 for adults or Take-Away (622-1010)\, $4.00 for children and a Family Rate is $15.00. \n
URL:https://993theriver.com/event/breakfast-19/
END:VEVENT
BEGIN:VEVENT
DTSTART;TZID=America/Halifax:20190428T130000
DTEND;TZID=America/Halifax:20190428T160000
DTSTAMP:20260419T140657
CREATED:20190424T164509Z
LAST-MODIFIED:20190424T164509Z
UID:7645-1556456400-1556467200@993theriver.com
SUMMARY:Canadian Council of the Blind Open House
DESCRIPTION:Canadian Council of the Blind \nMiramichi Chapter \nCelebrating 25 years \nSunday Afternoon April 28th \nFrom 1:00 PM to 4:00 PM \nAt the Newcastle Lions Den \nFinger Foods & Refreshments \nEveryone welcome \n
URL:https://993theriver.com/event/canadian-council-of-the-blind-open-house/
END:VEVENT
END:VCALENDAR