BEGIN:VCALENDAR
VERSION:2.0
PRODID:-//99.3 The River - ECPv4.6.26//NONSGML v1.0//EN
CALSCALE:GREGORIAN
METHOD:PUBLISH
X-WR-CALNAME:99.3 The River
X-ORIGINAL-URL:https://993theriver.com
X-WR-CALDESC:Events for 99.3 The River
BEGIN:VEVENT
DTSTART;TZID=America/Halifax:20190411T190000
DTEND;TZID=America/Halifax:20190411T190000
DTSTAMP:20260420T014614
CREATED:20190411T170732Z
LAST-MODIFIED:20190411T170732Z
UID:7592-1555009200-1555009200@993theriver.com
SUMMARY:California Suite
DESCRIPTION:CM Productions is proud to present Neil Simon’s classic comedy California Suite at the Vogue Theatre this April. \nThe play features four scenes whose action takes place in rooms 203 and 204 in the Beverly Hills Hotel. \nSometimes poignant and often hilarious\, this is an event not to miss. \nShow dates are: April 11-14 at 7 PM. \nTickets are available in advance at Creative Grounds Café or Brookdale Flower Shop for $15. They can also be purchased at the door for $20. \nCome out and support local talent and local theatre! \n
URL:https://993theriver.com/event/california-suite/2019-04-11/
END:VEVENT
END:VCALENDAR