BEGIN:VCALENDAR
VERSION:2.0
PRODID:-//99.3 The River - ECPv4.6.26//NONSGML v1.0//EN
CALSCALE:GREGORIAN
METHOD:PUBLISH
X-WR-CALNAME:99.3 The River
X-ORIGINAL-URL:https://993theriver.com
X-WR-CALDESC:Events for 99.3 The River
BEGIN:VEVENT
DTSTART;TZID=America/Halifax:20190407T090000
DTEND;TZID=America/Halifax:20190407T130000
DTSTAMP:20260419T193041
CREATED:20190328T165426Z
LAST-MODIFIED:20190328T165426Z
UID:7515-1554627600-1554642000@993theriver.com
SUMMARY:Breakfast
DESCRIPTION:Saint James Catholic Church in Sevogle \nSunday\, April 7th\, from 9:00 until 1:00 pm \nServing eggs\, bacon\, sausage\, home made beans\, home made bread for toast\, tea\, coffee\, juice \nAfter breakfast feel free to have more coffee or tea and enjoy a sweete with it and socialize with family\, friends or just the community. \nPrice:  $8.00 per person. \n  \n
URL:https://993theriver.com/event/breakfast-16/
END:VEVENT
END:VCALENDAR