BEGIN:VCALENDAR
VERSION:2.0
PRODID:-//99.3 The River - ECPv4.6.26//NONSGML v1.0//EN
CALSCALE:GREGORIAN
METHOD:PUBLISH
X-WR-CALNAME:99.3 The River
X-ORIGINAL-URL:https://993theriver.com
X-WR-CALDESC:Events for 99.3 The River
BEGIN:VEVENT
DTSTART;VALUE=DATE:20190303
DTEND;VALUE=DATE:20190304
DTSTAMP:20260425T175500
CREATED:20190225T183242Z
LAST-MODIFIED:20190225T183242Z
UID:7340-1551571200-1551657599@993theriver.com
SUMMARY:2019 Walk of Hope (June 1st)
DESCRIPTION: \n
URL:https://993theriver.com/event/2019-walk-of-hope-june-1st/2019-03-03/
END:VEVENT
BEGIN:VEVENT
DTSTART;TZID=America/Halifax:20190303T190000
DTEND;TZID=America/Halifax:20190303T190000
DTSTAMP:20260425T175500
CREATED:20190225T183453Z
LAST-MODIFIED:20190225T183453Z
UID:7356-1551639600-1551639600@993theriver.com
SUMMARY:Knights of Columbus Sunday Cards
DESCRIPTION:Knight’s of Columbus – Nelson Miramichi Weekly Auction 45’s card games at the Friendly Neighbours Senior hall on Sutton Road\, Nelson. \nGames start Sunday night\, March 03\, at 7pm with a new prize structure. \nPlayers should bring a partner with them. \nThere is a 50/50 draw and a special draw for the Jack of Diamond’s with a value of between $250.00 and $500.00. The entrance fee is still the same at $5.00 per person. \n
URL:https://993theriver.com/event/knights-of-columbus-sunday-cards/2019-03-03/
END:VEVENT
END:VCALENDAR