BEGIN:VCALENDAR
VERSION:2.0
PRODID:-//99.3 The River - ECPv4.6.26//NONSGML v1.0//EN
CALSCALE:GREGORIAN
METHOD:PUBLISH
X-WR-CALNAME:99.3 The River
X-ORIGINAL-URL:https://993theriver.com
X-WR-CALDESC:Events for 99.3 The River
BEGIN:VEVENT
DTSTART;TZID=America/Halifax:20190111T200000
DTEND;TZID=America/Halifax:20190111T200000
DTSTAMP:20260426T025747
CREATED:20190109T235027Z
LAST-MODIFIED:20190109T235027Z
UID:7166-1547236800-1547236800@993theriver.com
SUMMARY:Senior's Dance
DESCRIPTION:Nelson Senior Citizens Club \nFriday\, January 11th featuring WILD COUNTRY \n8pm-11pm. \nEveryone is welcome and a light lunch is provided. \n
URL:https://993theriver.com/event/seniors-dance-13/
END:VEVENT
END:VCALENDAR