BEGIN:VCALENDAR
VERSION:2.0
PRODID:-//99.3 The River - ECPv4.6.26//NONSGML v1.0//EN
CALSCALE:GREGORIAN
METHOD:PUBLISH
X-WR-CALNAME:99.3 The River
X-ORIGINAL-URL:https://993theriver.com
X-WR-CALDESC:Events for 99.3 The River
BEGIN:VEVENT
DTSTART;TZID=America/Halifax:20181217T190000
DTEND;TZID=America/Halifax:20181217T190000
DTSTAMP:20260424T112310
CREATED:20180911T170532Z
LAST-MODIFIED:20180911T170532Z
UID:6455-1545073200-1545073200@993theriver.com
SUMMARY:Ennis Sisters
DESCRIPTION:The Ennis Sisters live at St. Mary’s Church\, \n360 Newcastle Blvd. \nMonday\, Dec. 17th\, 7pm. \nTickets are now on sale at Brookdale Flower Shop and Kingston’s Car Wash. \nSponsored by the 62nd Miramichi Folksong Festival and Howard Johnston. \n
URL:https://993theriver.com/event/ennis-sisters/
END:VEVENT
END:VCALENDAR