BEGIN:VCALENDAR
VERSION:2.0
PRODID:-//99.3 The River - ECPv4.6.26//NONSGML v1.0//EN
CALSCALE:GREGORIAN
METHOD:PUBLISH
X-WR-CALNAME:99.3 The River
X-ORIGINAL-URL:https://993theriver.com
X-WR-CALDESC:Events for 99.3 The River
BEGIN:VEVENT
DTSTART;TZID=America/Halifax:20181208T180000
DTEND;TZID=America/Halifax:20181208T180000
DTSTAMP:20260422T060802
CREATED:20181127T164322Z
LAST-MODIFIED:20181127T180646Z
UID:7010-1544292000-1544292000@993theriver.com
SUMMARY:Benefit for Keith MacDonald
DESCRIPTION:Saturday\, December 8th\, 2018 \n6 PM – 1 AM \nNapan Community Hall \nKeith MacDonald of Napan was recently diagnosed with pancreatic cancer and both he and his wife Tiffany will be off work while travelling for doctor’s appointments.  The moeny raised from this benefit will help with travel expenses. \nFor more information or to make a contribution to the fundraiser\, contact Lorie at 624-4052 or Tammy at 626-4082 \n
URL:https://993theriver.com/event/benefit-for-keith-macdonald/
END:VEVENT
BEGIN:VEVENT
DTSTART;TZID=America/Halifax:20181208T190000
DTEND;TZID=America/Halifax:20181208T190000
DTSTAMP:20260422T060802
CREATED:20181120T143234Z
LAST-MODIFIED:20181120T143234Z
UID:6947-1544295600-1544295600@993theriver.com
SUMMARY:Williamstown Church
DESCRIPTION:Come celebrate Christmas with an evening of music and inspiration led by Gary Churchill. \nWilliamston Church\,\nDecember 08\, 2018 at 7pm \n
URL:https://993theriver.com/event/williamstown-church/
END:VEVENT
END:VCALENDAR