BEGIN:VCALENDAR
VERSION:2.0
PRODID:-//99.3 The River - ECPv4.6.26//NONSGML v1.0//EN
CALSCALE:GREGORIAN
METHOD:PUBLISH
X-WR-CALNAME:99.3 The River
X-ORIGINAL-URL:https://993theriver.com
X-WR-CALDESC:Events for 99.3 The River
BEGIN:VEVENT
DTSTART;TZID=America/Halifax:20181202T130000
DTEND;TZID=America/Halifax:20181202T150000
DTSTAMP:20260421T204217
CREATED:20181107T175550Z
LAST-MODIFIED:20181107T175550Z
UID:6829-1543755600-1543762800@993theriver.com
SUMMARY:Fundraiser Prize Bingo
DESCRIPTION:Sunday December 2\, 2018 \n1 pm to 3 pm \nCarrefour Beausoleil gymnasium. \nAll proceeds will go to the school playground fund for new equipment.\nIn case of cancellation\, the bingo will be held on Sunday December 9th from 1 pm to 3 pm. \n
URL:https://993theriver.com/event/fundraiser-prize-bingo/
END:VEVENT
BEGIN:VEVENT
DTSTART;TZID=America/Halifax:20181202T190000
DTEND;TZID=America/Halifax:20181202T190000
DTSTAMP:20260421T204217
CREATED:20181114T180228Z
LAST-MODIFIED:20181114T180228Z
UID:6928-1543777200-1543777200@993theriver.com
SUMMARY:Christmas Concert
DESCRIPTION:The Award Winning Villagers Choirs will be holding a Christmas concert at the\nVogue Theatre on December 2\, 2018 @ 7PM to benefit the Schizophrenia Society of\nNew Brunswick. \nA joyous start to Christmas\, cake & beverages served during the intermission. \nThickets available at the Schizophrenia Society of NB Office\, Creative Ground Cafe\, Ben’s Lunch Room\, Curtis Corner Convenience\, Addictions & Mental Health Services and Goodie Shop Restaurant \n
URL:https://993theriver.com/event/christmas-concert-3/
END:VEVENT
BEGIN:VEVENT
DTSTART;TZID=America/Halifax:20181202T190000
DTEND;TZID=America/Halifax:20181202T190000
DTSTAMP:20260421T204217
CREATED:20181120T144432Z
LAST-MODIFIED:20181120T144432Z
UID:6962-1543777200-1543777200@993theriver.com
SUMMARY:The Villagers in Concert
DESCRIPTION: \n
URL:https://993theriver.com/event/the-villagers-in-concert/
END:VEVENT
END:VCALENDAR