BEGIN:VCALENDAR
VERSION:2.0
PRODID:-//99.3 The River - ECPv4.6.26//NONSGML v1.0//EN
CALSCALE:GREGORIAN
METHOD:PUBLISH
X-WR-CALNAME:99.3 The River
X-ORIGINAL-URL:https://993theriver.com
X-WR-CALDESC:Events for 99.3 The River
BEGIN:VEVENT
DTSTART;VALUE=DATE:20170825
DTEND;VALUE=DATE:20170826
DTSTAMP:20260420T152947
CREATED:20170817T185508Z
LAST-MODIFIED:20170817T185508Z
UID:3779-1503619200-1503705599@993theriver.com
SUMMARY:ROGERSVILLE BLUEGRASS FESTIVAL
DESCRIPTION: \n
URL:https://993theriver.com/event/rogersville-bluegrass-festival/2017-08-25/
END:VEVENT
END:VCALENDAR