BEGIN:VCALENDAR
VERSION:2.0
PRODID:-//99.3 The River - ECPv4.6.26//NONSGML v1.0//EN
CALSCALE:GREGORIAN
METHOD:PUBLISH
X-WR-CALNAME:99.3 The River
X-ORIGINAL-URL:https://993theriver.com
X-WR-CALDESC:Events for 99.3 The River
BEGIN:VEVENT
DTSTART;VALUE=DATE:20170819
DTEND;VALUE=DATE:20170820
DTSTAMP:20260421T014712
CREATED:20170718T163644Z
LAST-MODIFIED:20170718T163644Z
UID:3601-1503100800-1503187199@993theriver.com
SUMMARY:MIRAMICHI MUDFEST
DESCRIPTION: \n
URL:https://993theriver.com/event/miramichi-mudfest/
END:VEVENT
BEGIN:VEVENT
DTSTART;VALUE=DATE:20170819
DTEND;VALUE=DATE:20170820
DTSTAMP:20260421T014712
CREATED:20170814T172404Z
LAST-MODIFIED:20170814T172404Z
UID:3756-1503100800-1503187199@993theriver.com
SUMMARY:Miramichi Mudfest
DESCRIPTION: \n
URL:https://993theriver.com/event/miramichi-mudfest-2/
END:VEVENT
BEGIN:VEVENT
DTSTART;TZID=UTC+1:20170819T100000
DTEND;TZID=UTC+1:20170819T160000
DTSTAMP:20260421T014712
CREATED:20170817T180352Z
LAST-MODIFIED:20170817T180352Z
UID:3773-1503136800-1503158400@993theriver.com
SUMMARY:Davie O'Toole Memorial BBQ
DESCRIPTION: \n
URL:https://993theriver.com/event/davie-otoole-memorial-bbq/
END:VEVENT
END:VCALENDAR