BEGIN:VCALENDAR
VERSION:2.0
PRODID:-//99.3 The River - ECPv4.6.26//NONSGML v1.0//EN
CALSCALE:GREGORIAN
METHOD:PUBLISH
X-WR-CALNAME:99.3 The River
X-ORIGINAL-URL:https://993theriver.com
X-WR-CALDESC:Events for 99.3 The River
BEGIN:VEVENT
DTSTART;TZID=UTC+1:20170818T200000
DTEND;TZID=UTC+1:20170818T230000
DTSTAMP:20260421T033430
CREATED:20170817T190037Z
LAST-MODIFIED:20170817T190037Z
UID:3787-1503086400-1503097200@993theriver.com
SUMMARY:Chatham Pioneer Senior Citizens Dance
DESCRIPTION:Friday\, August 18th \n8PM-11PM \nMusic by Last Call \nEveryone Welcome \n
URL:https://993theriver.com/event/chatham-pioneer-senior-citizens-dance/
END:VEVENT
END:VCALENDAR