BEGIN:VCALENDAR
VERSION:2.0
PRODID:-//99.3 The River - ECPv4.6.26//NONSGML v1.0//EN
CALSCALE:GREGORIAN
METHOD:PUBLISH
X-WR-CALNAME:99.3 The River
X-ORIGINAL-URL:https://993theriver.com
X-WR-CALDESC:Events for 99.3 The River
BEGIN:VEVENT
DTSTART;TZID=UTC+1:20170805T100000
DTEND;TZID=UTC+1:20170805T150000
DTSTAMP:20260422T042647
CREATED:20170803T173811Z
LAST-MODIFIED:20170803T173811Z
UID:3727-1501927200-1501945200@993theriver.com
SUMMARY:River City Rally
DESCRIPTION: \n
URL:https://993theriver.com/event/river-city-rally/
END:VEVENT
END:VCALENDAR