BEGIN:VCALENDAR
VERSION:2.0
PRODID:-//99.3 The River - ECPv4.6.26//NONSGML v1.0//EN
CALSCALE:GREGORIAN
METHOD:PUBLISH
X-WR-CALNAME:99.3 The River
X-ORIGINAL-URL:https://993theriver.com
X-WR-CALDESC:Events for 99.3 The River
BEGIN:VEVENT
DTSTART;VALUE=DATE:20170801
DTEND;VALUE=DATE:20170802
DTSTAMP:20260422T105618
CREATED:20170801T182353Z
LAST-MODIFIED:20170801T182353Z
UID:3675-1501545600-1501631999@993theriver.com
SUMMARY:Ritchie Wharf Entertainment
DESCRIPTION: \n
URL:https://993theriver.com/event/ritchie-wharf-entertainment/2017-08-01/
END:VEVENT
END:VCALENDAR