BEGIN:VCALENDAR
VERSION:2.0
PRODID:-//99.3 The River - ECPv4.6.26//NONSGML v1.0//EN
CALSCALE:GREGORIAN
METHOD:PUBLISH
X-WR-CALNAME:99.3 The River
X-ORIGINAL-URL:https://993theriver.com
X-WR-CALDESC:Events for 99.3 The River
BEGIN:VEVENT
DTSTART;VALUE=DATE:20170723
DTEND;VALUE=DATE:20170724
DTSTAMP:20260424T173930
CREATED:20170628T220736Z
LAST-MODIFIED:20170628T220817Z
UID:3378-1500768000-1500854399@993theriver.com
SUMMARY:Car Show N’ Shine - Boiestown
DESCRIPTION:The Central New Brunswick Woodmen’s Museum invites you to join us for our Car Show N’ Shine on Sunday\, July 23rd\, 2017. You will experience “Atlantic Canada’s Great Outdoors” during our annual car show. \nHighlights of the day include:\n– Live entertainment with the Country Cruisin’ Charlie Hachey\n– Free registration for cars and bikes\n– A chance to win Raffle Prizes (if you register your vehicle)\n– A chance to win the People’s Choice Award for 1st\, 2nd\, or 3rd place (if you register your vehicle)\n– Games\, such as: revamped drag racing\, and twister\, for children and children at heart\nGates open from 12 noon until 3 pm. Public Admission is by donation\, and it includes admission to the Museum Site. Join us for “not your average BBQ” – pulled pork and chili dogs\, alongside your hot dogs and hamburger.\nFor information contact:\nClaude Petitpas; Fundraising Coordinator\,\nor\nBernice Price; Executive Director \nCentral New Brunswick Woodmen’s Museum Inc.\,\n6342 Route 8\,\nBoiestown\, NB\,\nE6A 1Z5\nTel: (506) 369-7214\nEmail: fundraising.woodmen@nb.aibn.com \n
URL:https://993theriver.com/event/car-show-n-shine-boiestown/
END:VEVENT
BEGIN:VEVENT
DTSTART;TZID=UTC+1:20170723T140000
DTEND;TZID=UTC+1:20170723T140000
DTSTAMP:20260424T173930
CREATED:20170629T171639Z
LAST-MODIFIED:20170629T171639Z
UID:3389-1500818400-1500818400@993theriver.com
SUMMARY:Riverside Cemetery Service
DESCRIPTION:Riverside Cemetery service will be held on Sunday\, July 23rd at 2:00 p.m. Conducted by Rev. Charlene Magurie MacKnight with special music by Bill Hachey and friends. \n
URL:https://993theriver.com/event/riverside-cemetery-service/
END:VEVENT
BEGIN:VEVENT
DTSTART;TZID=UTC+1:20170723T140000
DTEND;TZID=UTC+1:20170723T180000
DTSTAMP:20260424T173930
CREATED:20170722T160414Z
LAST-MODIFIED:20170722T160414Z
UID:3623-1500818400-1500832800@993theriver.com
SUMMARY:Benefit for Helen Hollier Curtis
DESCRIPTION:Sunday\, July 23rd – 2 to 6 PM \nRenous Rec Centre \nMusic by Zacs band and local talent. \nSilent Auction and a small lunch will be served. \nAll money raised will help with medical bills and expenses \n
URL:https://993theriver.com/event/benefit-for-helen-hollier-curtis/
END:VEVENT
END:VCALENDAR