BEGIN:VCALENDAR
VERSION:2.0
PRODID:-//99.3 The River - ECPv4.6.26//NONSGML v1.0//EN
CALSCALE:GREGORIAN
METHOD:PUBLISH
X-WR-CALNAME:99.3 The River
X-ORIGINAL-URL:https://993theriver.com
X-WR-CALDESC:Events for 99.3 The River
BEGIN:VEVENT
DTSTART;TZID=UTC+1:20170722T090000
DTEND;TZID=UTC+1:20170722T190000
DTSTAMP:20260424T190457
CREATED:20170722T160602Z
LAST-MODIFIED:20170722T160602Z
UID:3625-1500714000-1500750000@993theriver.com
SUMMARY:10th annual Jeremy Urquhart Memorial Softball Tournament
DESCRIPTION:Saturday July 22 from 9-7 at City and Carrefour ballfields. \nEveryone is invited to come out to watch some great ball. \nAll proceeds go to local charities or families dealing with cancer. \n
URL:https://993theriver.com/event/10th-annual-jeremy-urquhart-memorial-softball-tournament/
END:VEVENT
BEGIN:VEVENT
DTSTART;TZID=UTC+1:20170722T090000
DTEND;TZID=UTC+1:20170722T120000
DTSTAMP:20260424T190457
CREATED:20170722T161001Z
LAST-MODIFIED:20170722T161001Z
UID:3627-1500714000-1500724800@993theriver.com
SUMMARY:Bottle Drive for Kyle Enright and family
DESCRIPTION:Saturday July 22 from 9am -12pm \nStrathadam to Sunny Corner. Miramichi City Surplus will be set up at Sutherland’s Excavating 466 Route 425 for drop off location for those outside the collection area that want to donate bottles for this fundraiser. If you need bottles picked up call 622-8322 \nKyle is battling stage 3 brain cancer and is currently taking treatment \n
URL:https://993theriver.com/event/bottle-drive-for-kyle-enright-and-family/
END:VEVENT
BEGIN:VEVENT
DTSTART;TZID=UTC+1:20170722T120000
DTEND;TZID=UTC+1:20170722T160000
DTSTAMP:20260424T190457
CREATED:20170518T024837Z
LAST-MODIFIED:20170518T024837Z
UID:2824-1500724800-1500739200@993theriver.com
SUMMARY:Butterfly Release and Family Day
DESCRIPTION: \n
URL:https://993theriver.com/event/butterfly-release-and-family-day/
END:VEVENT
BEGIN:VEVENT
DTSTART;TZID=UTC+1:20170722T130000
DTEND;TZID=UTC+1:20170722T160000
DTSTAMP:20260424T190457
CREATED:20170722T154949Z
LAST-MODIFIED:20170722T154949Z
UID:3621-1500728400-1500739200@993theriver.com
SUMMARY:Strawberry Social
DESCRIPTION:Hosted by the St. Paul’s Presbyterian Church \nSaturday\, July 22nd from 1 to 4 p.m \nBlack River Bridge Centennial Hall\, 7919\, Rte 117\, Black River Bridge \nStrawberry Shortcake – $6; Strawberries & Ice Cream – $3. Everyone Welcome! \n
URL:https://993theriver.com/event/strawberry-social/
END:VEVENT
BEGIN:VEVENT
DTSTART;TZID=UTC+1:20170722T180000
DTEND;TZID=UTC+1:20170722T230000
DTSTAMP:20260424T190457
CREATED:20170722T161202Z
LAST-MODIFIED:20170722T161202Z
UID:3629-1500746400-1500764400@993theriver.com
SUMMARY:Seaman's Hospital Presents An Evening of Music
DESCRIPTION:Celebrating the new Renovations at Seaman’s Hospital\,12 Vye Street\, Douglastown \nSaturday\, July 22\, 2017 \nSome of the Musical Artists are: Miramichi Fiddlers\, Charles Hachey and Friends\, Darren MacKinnon\, Donna and Tyrone Hubbard. \nThe doors open at 5:00 pm with Music from 6:00pm to 11:00pm. \nCost: Donations to go towards the Renovation Project. Light refreshments will be served \n
URL:https://993theriver.com/event/seamans-hospital-presents-an-evening-of-music/
END:VEVENT
END:VCALENDAR