BEGIN:VCALENDAR
VERSION:2.0
PRODID:-//99.3 The River - ECPv4.6.26//NONSGML v1.0//EN
CALSCALE:GREGORIAN
METHOD:PUBLISH
X-WR-CALNAME:99.3 The River
X-ORIGINAL-URL:https://993theriver.com
X-WR-CALDESC:Events for 99.3 The River
BEGIN:VEVENT
DTSTART;TZID=UTC+1:20170716T090000
DTEND;TZID=UTC+1:20170716T123000
DTSTAMP:20260424T125438
CREATED:20170714T044745Z
LAST-MODIFIED:20170714T044745Z
UID:3593-1500195600-1500208200@993theriver.com
SUMMARY:Breakfast - Sunny Corner
DESCRIPTION:Sunday\, July 16th \nSunny Corner Lions Club \n9 AM – 12:30 PM \nCost $5 per person \n
URL:https://993theriver.com/event/breakfast-sunny-corner/
END:VEVENT
BEGIN:VEVENT
DTSTART;TZID=UTC+1:20170716T100000
DTEND;TZID=UTC+1:20170716T100000
DTSTAMP:20260424T125438
CREATED:20170712T173251Z
LAST-MODIFIED:20170712T173251Z
UID:3480-1500199200-1500199200@993theriver.com
SUMMARY:Ray Lynch Memorial Horseshoe Tournament
DESCRIPTION:2nd annual Ray Lynch Memorial Horseshoe Tournament \nFranks Pits ( Next to the Chatham Head Recreation Center ) \nSunday July 16th\, 2017. \nRegistration will be between 10:00 A.M. & 11:00 A.M. Play will begin at 11:00 A.M. \n$ 10.00 a person to enter. This will be a draw for partners tournament. \nEveryone welcome\, men and women. For more info. contact Ron Corcoran at 778-8920. \n
URL:https://993theriver.com/event/ray-lynch-memorial-horseshoe-tournament/
END:VEVENT
END:VCALENDAR