BEGIN:VCALENDAR
VERSION:2.0
PRODID:-//99.3 The River - ECPv4.6.26//NONSGML v1.0//EN
CALSCALE:GREGORIAN
METHOD:PUBLISH
X-WR-CALNAME:99.3 The River
X-ORIGINAL-URL:https://993theriver.com
X-WR-CALDESC:Events for 99.3 The River
BEGIN:VEVENT
DTSTART;TZID=UTC+1:20170709T080000
DTEND;TZID=UTC+1:20170709T120000
DTSTAMP:20260422T025723
CREATED:20170705T131216Z
LAST-MODIFIED:20170705T131216Z
UID:3408-1499587200-1499601600@993theriver.com
SUMMARY:Knights of Columbus Breakfast
DESCRIPTION:Sunday\, July 9th \n8 AM – 12 Noon \nKnights of Columbus Hall\, Campbell Street\, Newcastle \n
URL:https://993theriver.com/event/knights-of-columbus-breakfast/
END:VEVENT
BEGIN:VEVENT
DTSTART;TZID=UTC+1:20170709T130000
DTEND;TZID=UTC+1:20170709T130000
DTSTAMP:20260422T025723
CREATED:20170707T161025Z
LAST-MODIFIED:20170707T161025Z
UID:3429-1499605200-1499605200@993theriver.com
SUMMARY:Merchandise Bingo
DESCRIPTION:Beaverbrook Church Hall\, Beaverbrook \nStarts at 1 PM \nOver 130 prizes\, 50/50 cards\, \nLottery draw for $400\, $100\, and 2 draws for $50\, will take place at the end of the bingo. \nEveryone welcome. \n
URL:https://993theriver.com/event/merchandise-bingo-2/
END:VEVENT
END:VCALENDAR