BEGIN:VCALENDAR
VERSION:2.0
PRODID:-//99.3 The River - ECPv4.6.26//NONSGML v1.0//EN
CALSCALE:GREGORIAN
METHOD:PUBLISH
X-WR-CALNAME:99.3 The River
X-ORIGINAL-URL:https://993theriver.com
X-WR-CALDESC:Events for 99.3 The River
BEGIN:VEVENT
DTSTART;TZID=UTC+1:20170703T190000
DTEND;TZID=UTC+1:20170703T190000
DTSTAMP:20260421T203621
CREATED:20170628T214141Z
LAST-MODIFIED:20170628T214209Z
UID:3366-1499108400-1499108400@993theriver.com
SUMMARY:Art Exhibit "Ways of Seeing"
DESCRIPTION:Art Exhibit in Loggie House “Ways of Seeing”\nWellington Street\n11-5 daily from July 4 to 9\nSpecial opening night on July 3 at 7 pm\nFree Admission/ All Welcome\nMiramichi Art Core and Bathurst Art Society \n
URL:https://993theriver.com/event/art-exhibit-ways-of-seeing-2/
END:VEVENT
END:VCALENDAR