BEGIN:VCALENDAR
VERSION:2.0
PRODID:-//99.3 The River - ECPv4.6.26//NONSGML v1.0//EN
CALSCALE:GREGORIAN
METHOD:PUBLISH
X-WR-CALNAME:99.3 The River
X-ORIGINAL-URL:https://993theriver.com
X-WR-CALDESC:Events for 99.3 The River
BEGIN:VEVENT
DTSTART;VALUE=DATE:20170624
DTEND;VALUE=DATE:20170626
DTSTAMP:20260420T211812
CREATED:20170614T202600Z
LAST-MODIFIED:20170614T202600Z
UID:3149-1498262400-1498435199@993theriver.com
SUMMARY:MS Bike Tour
DESCRIPTION:All you need is the passion and a bike to end MS.  The MS Bike tour is taking place at Kinnebecasis River Valley\, NB on June 24th and 25th\, proudly presented by 99.3 The River! \n
URL:https://993theriver.com/event/ms-bike-tour/
ATTACH;FMTTYPE=image/png:https://993theriver.com/wp-content/uploads/sites/19/2017/06/MSBikeTour.png
END:VEVENT
BEGIN:VEVENT
DTSTART;TZID=UTC+1:20170625T080000
DTEND;TZID=UTC+1:20170625T130000
DTSTAMP:20260420T211812
CREATED:20170620T153248Z
LAST-MODIFIED:20170620T153248Z
UID:3293-1498377600-1498395600@993theriver.com
SUMMARY:Monthly Fundraising Breakfast
DESCRIPTION:Hosted by Knights of Columbus Council 8381\, in Nelson\, \nSunday\, June 25\, 2017 \n8:00 AM to 1:00 PM \nSeniors Hall located at 26 Sutton Road. \nCost is $6.00 for adults or Take-Away (622-1010)\, $4.00 for children and a Family Rate is $15.00. \nAll are welcome and the Knights greatly appreciate your support. Hope to see you at the breakfast \n
URL:https://993theriver.com/event/monthly-fundraising-breakfast-2/
END:VEVENT
END:VCALENDAR