BEGIN:VCALENDAR
VERSION:2.0
PRODID:-//99.3 The River - ECPv4.6.26//NONSGML v1.0//EN
CALSCALE:GREGORIAN
METHOD:PUBLISH
X-WR-CALNAME:99.3 The River
X-ORIGINAL-URL:https://993theriver.com
X-WR-CALDESC:Events for 99.3 The River
BEGIN:VEVENT
DTSTART;VALUE=DATE:20170624
DTEND;VALUE=DATE:20170626
DTSTAMP:20260420T194634
CREATED:20170614T202600Z
LAST-MODIFIED:20170614T202600Z
UID:3149-1498262400-1498435199@993theriver.com
SUMMARY:MS Bike Tour
DESCRIPTION:All you need is the passion and a bike to end MS.  The MS Bike tour is taking place at Kinnebecasis River Valley\, NB on June 24th and 25th\, proudly presented by 99.3 The River! \n
URL:https://993theriver.com/event/ms-bike-tour/
ATTACH;FMTTYPE=image/png:https://993theriver.com/wp-content/uploads/sites/19/2017/06/MSBikeTour.png
END:VEVENT
BEGIN:VEVENT
DTSTART;VALUE=DATE:20170624
DTEND;VALUE=DATE:20170625
DTSTAMP:20260420T194634
CREATED:20170614T223437Z
LAST-MODIFIED:20170614T223437Z
UID:3164-1498262400-1498348799@993theriver.com
SUMMARY:MS Bike Tour
DESCRIPTION: \nJoin the MS Bike Tour from June 24th to June 25th and pedal at your own pace from Sussex to Saint John. Everyone should join the fight against MS because multiple sclerosis is Canada’s disease. We have the highest rate of MS in the world. We own it. We should fix it. \nMake MS Bike the most fun you’ve had all summer. Join Canada’s largest cycling series and raise funds for research — research that’s already helping tens of thousands of Canadians with MS today. Together\, we can end MS. Ride on your own or create a team and sign up today at msbike.ca or call 1-800- 268-7582. \n  \n  \n
URL:https://993theriver.com/event/ms-bike-tour-2/2017-06-24/
END:VEVENT
BEGIN:VEVENT
DTSTART;TZID=UTC+1:20170624T100000
DTEND;TZID=UTC+1:20170624T170000
DTSTAMP:20260420T194634
CREATED:20170628T221231Z
LAST-MODIFIED:20170628T221231Z
UID:3380-1498298400-1498323600@993theriver.com
SUMMARY:STEAM Saturdays
DESCRIPTION:Kids ages 8-12 are invited to explore Science\, Technology\, Engineering\, Arts\, and Mathematics with us every Saturday from June 24th until August 12th (except July 1st). Join us as we build a tall structure\, make some art\, tinker around with Snap Circuits\, and play with Ozobots or Makey Makey! We’ll be doing something different every week! Feel free to drop-in anytime between 10:00-12:30 and 1:30-5:00! \n
URL:https://993theriver.com/event/steam-saturdays/2017-06-24/
END:VEVENT
BEGIN:VEVENT
DTSTART;TZID=UTC+1:20170624T210000
DTEND;TZID=UTC+1:20170624T210000
DTSTAMP:20260420T194634
CREATED:20170614T220325Z
LAST-MODIFIED:20170614T220325Z
UID:3153-1498338000-1498338000@993theriver.com
SUMMARY:Blackville Days Concert
DESCRIPTION:Saturday\, June 24th \n9 pm – Jake Stewart. \n10 PM – Wade “the stomper” Hallihan \n11:30 – 9 Mile River \nEvent Bracelets are available at Blackville Trio Pizza for $15 or at the gate for $20. \nThis event is brought to you by the Blackville Firemans club\, who will be on-sight bar tending and BBQing for the duration of the event. Event is open to anyone over the age of 19. \n
URL:https://993theriver.com/event/blackville-days-concert/
END:VEVENT
END:VCALENDAR