BEGIN:VCALENDAR
VERSION:2.0
PRODID:-//99.3 The River - ECPv4.6.26//NONSGML v1.0//EN
CALSCALE:GREGORIAN
METHOD:PUBLISH
X-WR-CALNAME:99.3 The River
X-ORIGINAL-URL:https://993theriver.com
X-WR-CALDESC:Events for 99.3 The River
BEGIN:VEVENT
DTSTART;VALUE=DATE:20170623
DTEND;VALUE=DATE:20170624
DTSTAMP:20260420T181745
CREATED:20170619T033848Z
LAST-MODIFIED:20170619T034826Z
UID:3278-1498176000-1498262399@993theriver.com
SUMMARY:Rogersville Country Festival
DESCRIPTION:Rogersville Country Festival Preview Show\nIf you missed the show on Sunday morning\, you can hear the complete show by clicking on the link below: \n \n \n
URL:https://993theriver.com/event/rogersville-country-festival/2017-06-23/
END:VEVENT
END:VCALENDAR