BEGIN:VCALENDAR
VERSION:2.0
PRODID:-//99.3 The River - ECPv4.6.26//NONSGML v1.0//EN
CALSCALE:GREGORIAN
METHOD:PUBLISH
X-WR-CALNAME:99.3 The River
X-ORIGINAL-URL:https://993theriver.com
X-WR-CALDESC:Events for 99.3 The River
BEGIN:VEVENT
DTSTART;TZID=UTC+1:20170616T140000
DTEND;TZID=UTC+1:20170616T180000
DTSTAMP:20260420T132510
CREATED:20170628T215011Z
LAST-MODIFIED:20170628T215011Z
UID:3368-1497621600-1497636000@993theriver.com
SUMMARY:Salmon Supper
DESCRIPTION:Sts. Peter & Paul /Holy Family\nSalmon Supper\nDessert Homemade Pies\nSunday\, July 16th\, 2017\n2 pm to 6 pm\nCome Enjoy a Home Cooked Meal\nFather Morriscy Centre\nBartibog Bridge\nAdults $15.00\nChildren $7.00\nTake-out $1.00 Extra\n
URL:https://993theriver.com/event/salmon-supper/
END:VEVENT
END:VCALENDAR