BEGIN:VCALENDAR
VERSION:2.0
PRODID:-//99.3 The River - ECPv4.6.26//NONSGML v1.0//EN
CALSCALE:GREGORIAN
METHOD:PUBLISH
X-WR-CALNAME:99.3 The River
X-ORIGINAL-URL:https://993theriver.com
X-WR-CALDESC:Events for 99.3 The River
BEGIN:VEVENT
DTSTART;TZID=America/Halifax:20180602T100000
DTEND;TZID=America/Halifax:20180602T140000
DTSTAMP:20260422T142252
CREATED:20180524T235305Z
LAST-MODIFIED:20180524T235305Z
UID:5535-1527933600-1527948000@993theriver.com
SUMMARY:Youth Celebration of Fish NB Days
DESCRIPTION:NB Fish Days on the Miramichi! \nJune 2nd \nKids aged 14 and under and their families are welcome to this youth-centered event. \nFishing will take place at Wilson’s Point (behind the Enclosure campground) from 10AM-2PM. \nThere will be a free BBQ and beverages served for all those registered. This FREE community event is co-hosted by the Miramichi Watershed Management Committee and the Miramichi Salmon Association. \nEmail Gabby at gabrielle@miramichisalmon.ca to register today! \n
URL:https://993theriver.com/event/youth-celebration-of-fish-nb-days/
END:VEVENT
END:VCALENDAR