BEGIN:VCALENDAR
VERSION:2.0
PRODID:-//99.3 The River - ECPv4.6.26//NONSGML v1.0//EN
CALSCALE:GREGORIAN
METHOD:PUBLISH
X-WR-CALNAME:99.3 The River
X-ORIGINAL-URL:https://993theriver.com
X-WR-CALDESC:Events for 99.3 The River
BEGIN:VEVENT
DTSTART;TZID=America/Halifax:20190504T080000
DTEND;TZID=America/Halifax:20190504T080000
DTSTAMP:20260419T122124
CREATED:20190424T163609Z
LAST-MODIFIED:20190502T124627Z
UID:7631-1556956800-1556956800@993theriver.com
SUMMARY:Yard Sale
DESCRIPTION:St John the Evangelist Church\nBay du Vin will be having a Yard Sale in the Basement\nSat May 4th beginning at 8AM \n
URL:https://993theriver.com/event/yard-sale/
END:VEVENT
END:VCALENDAR