BEGIN:VCALENDAR
VERSION:2.0
PRODID:-//99.3 The River - ECPv4.6.26//NONSGML v1.0//EN
CALSCALE:GREGORIAN
METHOD:PUBLISH
X-WR-CALNAME:99.3 The River
X-ORIGINAL-URL:https://993theriver.com
X-WR-CALDESC:Events for 99.3 The River
BEGIN:VEVENT
DTSTART;TZID=UTC+1:20171209T140000
DTEND;TZID=UTC+1:20171209T140000
DTSTAMP:20260421T204551
CREATED:20171114T182326Z
LAST-MODIFIED:20171114T182326Z
UID:5146-1512828000-1512828000@993theriver.com
SUMMARY:Williamstown Church Christmas Service
DESCRIPTION:Dec. 9th at 2pm \nWilliamstown Church \n726 Williamstown Road. \nRev. Roger Estey will be presiding along with Shirley Estey at the piano\, The Millerton Youth Choir and Mary Stewart and Leo Pineau. Everyone welcome. \n
URL:https://993theriver.com/event/williamstown-church-christmas-service/
END:VEVENT
END:VCALENDAR