BEGIN:VCALENDAR
VERSION:2.0
PRODID:-//99.3 The River - ECPv4.6.26//NONSGML v1.0//EN
CALSCALE:GREGORIAN
METHOD:PUBLISH
X-WR-CALNAME:99.3 The River
X-ORIGINAL-URL:https://993theriver.com
X-WR-CALDESC:Events for 99.3 The River
BEGIN:VEVENT
DTSTART;TZID=UTC+1:20170617T200000
DTEND;TZID=UTC+1:20170617T230000
DTSTAMP:20260422T142222
CREATED:20170512T040754Z
LAST-MODIFIED:20170512T040754Z
UID:2763-1497729600-1497740400@993theriver.com
SUMMARY:Wild Country at Father Morrisey Centre
DESCRIPTION:WILD COUNTRY \nJune 17th at the Father Morrisey Centre \, Bartibog NB (church lane) \n8 PM – 11 PM. \nTea\, coffee and a light lunch provided \nEveryone welcome! \n
URL:https://993theriver.com/event/wild-country-at-father-morrisey-centre/
END:VEVENT
END:VCALENDAR