BEGIN:VCALENDAR
VERSION:2.0
PRODID:-//99.3 The River - ECPv4.6.26//NONSGML v1.0//EN
CALSCALE:GREGORIAN
METHOD:PUBLISH
X-WR-CALNAME:99.3 The River
X-ORIGINAL-URL:https://993theriver.com
X-WR-CALDESC:Events for 99.3 The River
BEGIN:VEVENT
DTSTART;TZID=America/Halifax:20260522T110000
DTEND;TZID=America/Halifax:20260522T130000
DTSTAMP:20260421T220429
CREATED:20260421T121814Z
LAST-MODIFIED:20260421T121820Z
UID:25538-1779447600-1779454800@993theriver.com
SUMMARY:Walk of Hope
DESCRIPTION:Walk of Hope at French Fort Cove(Playground side) on May 22nd at 11:00 AM to 1:00 PM.  It’s an awareness event to show support for those living with Mental Illness including Schizophrenia.  Event open to everyone to come and show your support. \n
URL:https://993theriver.com/event/walk-of-hope-2/
END:VEVENT
END:VCALENDAR