BEGIN:VCALENDAR
VERSION:2.0
PRODID:-//99.3 The River - ECPv4.6.26//NONSGML v1.0//EN
CALSCALE:GREGORIAN
METHOD:PUBLISH
X-WR-CALNAME:99.3 The River
X-ORIGINAL-URL:https://993theriver.com
X-WR-CALDESC:Events for 99.3 The River
BEGIN:VEVENT
DTSTART;TZID=UTC+1:20171105T153000
DTEND;TZID=UTC+1:20171105T180000
DTSTAMP:20260422T213002
CREATED:20171006T123756Z
LAST-MODIFIED:20171006T123756Z
UID:4485-1509895800-1509904800@993theriver.com
SUMMARY:Turkey Supper
DESCRIPTION:St. Andrew’s United Church Annual Turkey Supper \nSunday\, Nov. 5th \n3:30 – 6:00 p.m. \n188 Wellington Street. \nAdults $12.00\, Take Outs $12.50 and children 12 and under $5.00. \n
URL:https://993theriver.com/event/turkey-supper/
END:VEVENT
END:VCALENDAR