BEGIN:VCALENDAR
VERSION:2.0
PRODID:-//99.3 The River - ECPv4.6.26//NONSGML v1.0//EN
CALSCALE:GREGORIAN
METHOD:PUBLISH
X-WR-CALNAME:99.3 The River
X-ORIGINAL-URL:https://993theriver.com
X-WR-CALDESC:Events for 99.3 The River
BEGIN:VEVENT
DTSTART;TZID=UTC+1:20171028T150000
DTEND;TZID=UTC+1:20171028T180000
DTSTAMP:20260425T132656
CREATED:20171020T163405Z
LAST-MODIFIED:20171020T163405Z
UID:4569-1509202800-1509213600@993theriver.com
SUMMARY:Turkey Supper - Gray Rapids
DESCRIPTION:St. Agnes Anglican Church\, Gray Rapids \nTurkey Supper with all the trimmings \nSat. Oct 28th. \nTake-outs available from 3:00 to 4:00. \nSit down suppers from 4:00 to 6:00. \nCost is $10.00 per person. \nAll proceeds to the church Building Fund. \n
URL:https://993theriver.com/event/turkey-supper-gray-rapids/
END:VEVENT
END:VCALENDAR