BEGIN:VCALENDAR
VERSION:2.0
PRODID:-//99.3 The River - ECPv4.6.26//NONSGML v1.0//EN
CALSCALE:GREGORIAN
METHOD:PUBLISH
X-WR-CALNAME:99.3 The River
X-ORIGINAL-URL:https://993theriver.com
X-WR-CALDESC:Events for 99.3 The River
BEGIN:VEVENT
DTSTART;VALUE=DATE:20181015
DTEND;VALUE=DATE:20181016
DTSTAMP:20260424T091548
CREATED:20181010T170825Z
LAST-MODIFIED:20181010T170825Z
UID:6594-1539561600-1539647999@993theriver.com
SUMMARY:Turkey Pie Day (Oct 27th)
DESCRIPTION:The Friends of Seamen’s Hospital will be hosting a Turkey Pie Day \nSaturday\, October 27th . \nTo pre-order your pie(s)\, call in your order to our answering machine at 778-2349 and leave us your name\, phone number\, number of pies and your plan to pick up your freshly made pies on October 27th. \nWe’ll make them – ready for you to bake or freeze. \n
URL:https://993theriver.com/event/turkey-pie-day-oct-27th/2018-10-15/
END:VEVENT
END:VCALENDAR