BEGIN:VCALENDAR
VERSION:2.0
PRODID:-//99.3 The River - ECPv4.6.26//NONSGML v1.0//EN
CALSCALE:GREGORIAN
METHOD:PUBLISH
X-WR-CALNAME:99.3 The River
X-ORIGINAL-URL:https://993theriver.com
X-WR-CALDESC:Events for 99.3 The River
BEGIN:VEVENT
DTSTART;TZID=America/Halifax:20240529T130000
DTEND;TZID=America/Halifax:20240529T150000
DTSTAMP:20260424T010906
CREATED:20240417T215416Z
LAST-MODIFIED:20240417T215416Z
UID:21766-1716987600-1716994800@993theriver.com
SUMMARY:Tuadook Village Community Centre
DESCRIPTION:Together With Friends \nAt the Tuadook Village Community Centre in Sillikers. \nWednesdays 1 – 3 pm   April 17th\, May 1st\, May 15th\, May 29th \nJoin us for an afternoon of conversation\, games\, puzzles\, etc. \nLight refreshments provided. \n
URL:https://993theriver.com/event/tuadook-village-community-centr/2024-05-29/
CATEGORIES:Community Events
END:VEVENT
END:VCALENDAR