BEGIN:VCALENDAR
VERSION:2.0
PRODID:-//99.3 The River - ECPv4.6.26//NONSGML v1.0//EN
CALSCALE:GREGORIAN
METHOD:PUBLISH
X-WR-CALNAME:99.3 The River
X-ORIGINAL-URL:https://993theriver.com
X-WR-CALDESC:Events for 99.3 The River
BEGIN:VEVENT
DTSTART;TZID=UTC+1:20170916T193000
DTEND;TZID=UTC+1:20170916T193000
DTSTAMP:20260425T221953
CREATED:20170912T040212Z
LAST-MODIFIED:20170912T040212Z
UID:4050-1505590200-1505590200@993theriver.com
SUMMARY:Timberwolves Home Opener
DESCRIPTION: \n
URL:https://993theriver.com/event/timberwolves-home-opener/
END:VEVENT
END:VCALENDAR