BEGIN:VCALENDAR
VERSION:2.0
PRODID:-//99.3 The River - ECPv4.6.26//NONSGML v1.0//EN
CALSCALE:GREGORIAN
METHOD:PUBLISH
X-WR-CALNAME:99.3 The River
X-ORIGINAL-URL:https://993theriver.com
X-WR-CALDESC:Events for 99.3 The River
BEGIN:VEVENT
DTSTART;VALUE=DATE:20250627
DTEND;VALUE=DATE:20250628
DTSTAMP:20260425T125816
CREATED:20250602T114850Z
LAST-MODIFIED:20250619T082211Z
UID:24332-1750982400-1751068799@993theriver.com
SUMMARY:Thomas Boies Days
DESCRIPTION: \n
URL:https://993theriver.com/event/thomas-boies-days/2025-06-27/
CATEGORIES:Community Events
END:VEVENT
END:VCALENDAR