BEGIN:VCALENDAR
VERSION:2.0
PRODID:-//99.3 The River - ECPv4.6.26//NONSGML v1.0//EN
CALSCALE:GREGORIAN
METHOD:PUBLISH
X-WR-CALNAME:99.3 The River
X-ORIGINAL-URL:https://993theriver.com
X-WR-CALDESC:Events for 99.3 The River
BEGIN:VEVENT
DTSTART;TZID=America/Halifax:20180916T120000
DTEND;TZID=America/Halifax:20180916T120000
DTSTAMP:20260424T123601
CREATED:20180904T170618Z
LAST-MODIFIED:20180904T170618Z
UID:6419-1537099200-1537099200@993theriver.com
SUMMARY:Terry Fox Run
DESCRIPTION:Sunday Sept 16. \nRegistration starts at Noon and Run/Walk begins at 1PM \nLord Beaverbrook Arena Miramichi East. \nContact Geri Donahue 623-9871 \n
URL:https://993theriver.com/event/terry-fox-run/
END:VEVENT
END:VCALENDAR