BEGIN:VCALENDAR
VERSION:2.0
PRODID:-//99.3 The River - ECPv4.6.26//NONSGML v1.0//EN
CALSCALE:GREGORIAN
METHOD:PUBLISH
X-WR-CALNAME:99.3 The River
X-ORIGINAL-URL:https://993theriver.com
X-WR-CALDESC:Events for 99.3 The River
BEGIN:VEVENT
DTSTART;TZID=America/Halifax:20220925T140000
DTEND;TZID=America/Halifax:20220925T170000
DTSTAMP:20260424T125918
CREATED:20220909T131934Z
LAST-MODIFIED:20220909T131934Z
UID:17834-1664114400-1664125200@993theriver.com
SUMMARY:Take-Out Turkey Dinner
DESCRIPTION:Nativity of the Blessed Virgin Mary Church \nSunday\, September 25th 2-5 pm.\nIncludes Turkey\, potatoes\, carrots\, peas\, dressing and dessert.\nTickets are $16.00 each.\nCall the office Alice (506-622-2931) to order. \n
URL:https://993theriver.com/event/take-out-turkey-dinner/
CATEGORIES:Community Events
END:VEVENT
END:VCALENDAR