BEGIN:VCALENDAR
VERSION:2.0
PRODID:-//99.3 The River - ECPv4.6.26//NONSGML v1.0//EN
CALSCALE:GREGORIAN
METHOD:PUBLISH
X-WR-CALNAME:99.3 The River
X-ORIGINAL-URL:https://993theriver.com
X-WR-CALDESC:Events for 99.3 The River
BEGIN:VEVENT
DTSTART;VALUE=DATE:20221023
DTEND;VALUE=DATE:20221024
DTSTAMP:20260422T160102
CREATED:20221016T134717Z
LAST-MODIFIED:20221017T011021Z
UID:18002-1666483200-1666569599@993theriver.com
SUMMARY:Take Out Seafood Chowder or Turkey Casserole Supper (Oct 29th)
DESCRIPTION: \n
URL:https://993theriver.com/event/take-out-seafood-chowder-or-turkey-casserole-supper-oct-29th/
CATEGORIES:Community Events
END:VEVENT
END:VCALENDAR