BEGIN:VCALENDAR
VERSION:2.0
PRODID:-//99.3 The River - ECPv4.6.26//NONSGML v1.0//EN
CALSCALE:GREGORIAN
METHOD:PUBLISH
X-WR-CALNAME:99.3 The River
X-ORIGINAL-URL:https://993theriver.com
X-WR-CALDESC:Events for 99.3 The River
BEGIN:VEVENT
DTSTART;TZID=America/Halifax:20210710T080000
DTEND;TZID=America/Halifax:20210710T110000
DTSTAMP:20260421T190401
CREATED:20210624T123849Z
LAST-MODIFIED:20210624T123849Z
UID:14757-1625904000-1625914800@993theriver.com
SUMMARY:Sunny Corner Days Breakfast
DESCRIPTION:Saturday\, July 10th \n8 – 11 AM \nSunny Corner Arena \nCost $7 \n
URL:https://993theriver.com/event/sunny-corner-days-breakfast/
END:VEVENT
END:VCALENDAR