BEGIN:VCALENDAR
VERSION:2.0
PRODID:-//99.3 The River - ECPv4.6.26//NONSGML v1.0//EN
CALSCALE:GREGORIAN
METHOD:PUBLISH
X-WR-CALNAME:99.3 The River
X-ORIGINAL-URL:https://993theriver.com
X-WR-CALDESC:Events for 99.3 The River
BEGIN:VEVENT
DTSTART;TZID=America/Halifax:20240629T200000
DTEND;TZID=America/Halifax:20240629T230000
DTSTAMP:20260421T172909
CREATED:20240624T114939Z
LAST-MODIFIED:20240624T114939Z
UID:22648-1719691200-1719702000@993theriver.com
SUMMARY:Sunny Corner Dance
DESCRIPTION:The Islandview Seniors Club are hosting a dance at the Sunny Corner Lion’s Club Hall on June 29th from 8:00 pm to 11:00 pm. Music by Wild Country. Cost is $7 per person. A lunch will be served afterwards. Open bar. \n
URL:https://993theriver.com/event/sunny-corner-dance/
CATEGORIES:Entertainment
END:VEVENT
END:VCALENDAR