BEGIN:VCALENDAR
VERSION:2.0
PRODID:-//99.3 The River - ECPv4.6.26//NONSGML v1.0//EN
CALSCALE:GREGORIAN
METHOD:PUBLISH
X-WR-CALNAME:99.3 The River
X-ORIGINAL-URL:https://993theriver.com
X-WR-CALDESC:Events for 99.3 The River
BEGIN:VEVENT
DTSTART;TZID=America/Halifax:20250310T080000
DTEND;TZID=America/Halifax:20250317T170000
DTSTAMP:20260422T142056
CREATED:20250310T092726Z
LAST-MODIFIED:20250310T092726Z
UID:23957-1741593600-1742230800@993theriver.com
SUMMARY:St. Patrick’s Day Supper-
DESCRIPTION:St. Patrick’s Day Supper-MONDAY\, MARCH 17TH\, 5:00 PM. MASS at 4:00 pm followed by Ham & Potato Scallop Supper (at 5:00 pm) at St. Patrick’s Church. Ham & Scallop Potatoes\, Roll\, dessert\, and tea or coffee. Adults: $15\, Children $7. TICKETS must be PRE-PURCHASED in advance at the weekend masses or by calling the Parish Office at 1-506-622-5733 by Friday\, March 14th. HOPE TO SEE YOU THERE!!! \n
URL:https://993theriver.com/event/st-patricks-day-supper/
END:VEVENT
END:VCALENDAR