BEGIN:VCALENDAR
VERSION:2.0
PRODID:-//99.3 The River - ECPv4.6.26//NONSGML v1.0//EN
CALSCALE:GREGORIAN
METHOD:PUBLISH
X-WR-CALNAME:99.3 The River
X-ORIGINAL-URL:https://993theriver.com
X-WR-CALDESC:Events for 99.3 The River
BEGIN:VEVENT
DTSTART;TZID=America/Halifax:20260322T140000
DTEND;TZID=America/Halifax:20260322T170000
DTSTAMP:20260425T210547
CREATED:20260309T233616Z
LAST-MODIFIED:20260309T233623Z
UID:25370-1774188000-1774198800@993theriver.com
SUMMARY:St. Patrick’s Day Recovery Party
DESCRIPTION:St. Patrick’s Day Recovery Party… will be held on Sunday\, March 22nd. From 2 – 4 pm\, there will be live\, non-stop local entertainment at Sts. Peter & Paul Church; free will offering at the door. From 4 – 5:30 pm\, a home-cooked supper will be available at Father Morriscy Centre. On the menu is soups\, stews\, brown beans\, chili; served with roll\, beverage and dessert. $10 per person. Everyone welcome. \n-or-  \nSt. Patrick’s Day Recovery Party \nSunday\, March 22nd    \n2 – 4 pm: Live\, non-stop local entertainment at Sts. Peter & Paul Church. Free will offering at the door. \n4 – 5:30 pm: Supper at Father Morriscy Centre. Home-cooked soups\, stews\, brown beans\, chili; served with roll\, beverage and dessert. $10 per person.\n \nEVERYONE WELCOME! \n
URL:https://993theriver.com/event/st-patricks-day-recovery-party-2/
END:VEVENT
END:VCALENDAR