BEGIN:VCALENDAR
VERSION:2.0
PRODID:-//99.3 The River - ECPv4.6.26//NONSGML v1.0//EN
CALSCALE:GREGORIAN
METHOD:PUBLISH
X-WR-CALNAME:99.3 The River
X-ORIGINAL-URL:https://993theriver.com
X-WR-CALDESC:Events for 99.3 The River
BEGIN:VEVENT
DTSTART;TZID=UTC+1:20171126T140000
DTEND;TZID=UTC+1:20171126T140000
DTSTAMP:20260420T163242
CREATED:20171120T064945Z
LAST-MODIFIED:20171120T064945Z
UID:5244-1511704800-1511704800@993theriver.com
SUMMARY:St. Patrick’s 200 Years + : Eyes on the Steeple
DESCRIPTION:Sunday\, November 26th at 2 PM \nNelson Rural School (26 St. Patrick’s Drive) \nAdmission is a donation toward the restoration of the church’s steeple. \nWritten by John Bosma\, and adapted from a historical essay by Mary Gill\, this two act play is a lighthearted look at the history of St. Patrick’s church in Nelson. \n
URL:https://993theriver.com/event/st-patricks-200-years-eyes-on-the-steeple-2/
END:VEVENT
END:VCALENDAR